BEGIN:VCALENDAR
PRODID:-//Konrad Rosenbaum//NONSGML DREAMS 0.1//EN
VERSION:2.0
BEGIN:VEVENT
DTSTAMP:20260419T131738Z
UID:DREAMS-100_163
LAST-MODIFIED:20260419T131738Z
SUMMARY:Chat+Mail+Wiki
DESCRIPTION:Referent: Sven Guckes\nInfo: http://six.linux-info-tag.de/100/de
 tail/163
LOCATION:Workshopraum E046
DTSTART:20081108T090000Z
DTEND:20081108T120000Z
END:VEVENT
END:VCALENDAR
